BEGIN:VCALENDAR
VERSION:2.0
PRODID:-//St. Francis Xavier Cathedral - ECPv6.15.20//NONSGML v1.0//EN
CALSCALE:GREGORIAN
METHOD:PUBLISH
X-WR-CALNAME:St. Francis Xavier Cathedral
X-ORIGINAL-URL:https://sfxcathedral.org
X-WR-CALDESC:Events for St. Francis Xavier Cathedral
REFRESH-INTERVAL;VALUE=DURATION:PT1H
X-Robots-Tag:noindex
X-PUBLISHED-TTL:PT1H
BEGIN:VTIMEZONE
TZID:America/Chicago
BEGIN:DAYLIGHT
TZOFFSETFROM:-0600
TZOFFSETTO:-0500
TZNAME:CDT
DTSTART:20210314T080000
END:DAYLIGHT
BEGIN:STANDARD
TZOFFSETFROM:-0500
TZOFFSETTO:-0600
TZNAME:CST
DTSTART:20211107T070000
END:STANDARD
BEGIN:DAYLIGHT
TZOFFSETFROM:-0600
TZOFFSETTO:-0500
TZNAME:CDT
DTSTART:20220313T080000
END:DAYLIGHT
BEGIN:STANDARD
TZOFFSETFROM:-0500
TZOFFSETTO:-0600
TZNAME:CST
DTSTART:20221106T070000
END:STANDARD
BEGIN:DAYLIGHT
TZOFFSETFROM:-0600
TZOFFSETTO:-0500
TZNAME:CDT
DTSTART:20230312T080000
END:DAYLIGHT
BEGIN:STANDARD
TZOFFSETFROM:-0500
TZOFFSETTO:-0600
TZNAME:CST
DTSTART:20231105T070000
END:STANDARD
END:VTIMEZONE
BEGIN:VEVENT
DTSTART;TZID=America/Chicago:20220522T173000
DTEND;TZID=America/Chicago:20220522T183000
DTSTAMP:20260421T033136
CREATED:20220519T211609Z
LAST-MODIFIED:20220519T211609Z
UID:792-1653240600-1653244200@sfxcathedral.org
SUMMARY:Sacrament of Confirmation
DESCRIPTION:Bishop Robert Marshall will celebrate the Sacrament of Confirmation on Sunday\, May 22\, 2022\, at the 5:30 p.m. Mass in St. Francis Xavier Cathedral. Those receiving the Sacrament of Confirmation will be; Easton Wayne Davis\, Annalise Virginia Strange\, and Steven Luke White. We want to welcome our candidates\, with their sponsors and families\, for this special outpouring of the Holy Spirit. Everyone is welcome to attend.
URL:https://sfxcathedral.org/event/sacrament-of-confirmation/
END:VEVENT
END:VCALENDAR